BEGIN:VCALENDAR
VERSION:2.0
PRODID:-//1. Snookerclub Essen e. V. - ECPv6.15.15//NONSGML v1.0//EN
CALSCALE:GREGORIAN
METHOD:PUBLISH
X-ORIGINAL-URL:https://snooker-essen.de
X-WR-CALDESC:Veranstaltungen für 1. Snookerclub Essen e. V.
REFRESH-INTERVAL;VALUE=DURATION:PT1H
X-Robots-Tag:noindex
X-PUBLISHED-TTL:PT1H
BEGIN:VTIMEZONE
TZID:Europe/Helsinki
BEGIN:DAYLIGHT
TZOFFSETFROM:+0200
TZOFFSETTO:+0300
TZNAME:EEST
DTSTART:20190331T010000
END:DAYLIGHT
BEGIN:STANDARD
TZOFFSETFROM:+0300
TZOFFSETTO:+0200
TZNAME:EET
DTSTART:20191027T010000
END:STANDARD
BEGIN:DAYLIGHT
TZOFFSETFROM:+0200
TZOFFSETTO:+0300
TZNAME:EEST
DTSTART:20200329T010000
END:DAYLIGHT
BEGIN:STANDARD
TZOFFSETFROM:+0300
TZOFFSETTO:+0200
TZNAME:EET
DTSTART:20201025T010000
END:STANDARD
BEGIN:DAYLIGHT
TZOFFSETFROM:+0200
TZOFFSETTO:+0300
TZNAME:EEST
DTSTART:20210328T010000
END:DAYLIGHT
BEGIN:STANDARD
TZOFFSETFROM:+0300
TZOFFSETTO:+0200
TZNAME:EET
DTSTART:20211031T010000
END:STANDARD
END:VTIMEZONE
BEGIN:VEVENT
DTSTART;VALUE=DATE:20200425
DTEND;VALUE=DATE:20200426
DTSTAMP:20260420T002457
CREATED:20200302T212602Z
LAST-MODIFIED:20200302T212657Z
UID:2989-1587772800-1587859199@snooker-essen.de
SUMMARY:SnooKiDa-Turnier
DESCRIPTION:Ein neues Turnier\, wiederum für 2er-Teams und bestehend aus den Disziplinen Snooker (Doppel mit Wechselstoß)\, Kicker (2 gegen 2) und Darts (2 gegen 2 und abwechselnd je 3 Pfeile) \nDieses Turnier ist erst mal nur rein vereinsintern und zu sehen welche Zeiten man für die Disziplinen Kicker und Darts einrechnen muss. \nWir werden auf 5 Snookertischen\, 3 Kickern und 3 Dartboards spielen\, und jede Disziplin bekommt die gleiche Wertung. \nErst wird es eine Gruppenphase mit 3er oder 4er Gruppen geben\, anschließend KO-Runden. Die genauen Modi werden noch festgelegt… \nBeginn vrstl. um 10:00
URL:https://snooker-essen.de/event/snookida-turnier/
CATEGORIES:Termine
END:VEVENT
END:VCALENDAR