BEGIN:VCALENDAR
VERSION:2.0
PRODID:-//1. Snookerclub Essen e. V. - ECPv6.15.15//NONSGML v1.0//EN
CALSCALE:GREGORIAN
METHOD:PUBLISH
X-WR-CALNAME:1. Snookerclub Essen e. V.
X-ORIGINAL-URL:https://snooker-essen.de
X-WR-CALDESC:Veranstaltungen für 1. Snookerclub Essen e. V.
REFRESH-INTERVAL;VALUE=DURATION:PT1H
X-Robots-Tag:noindex
X-PUBLISHED-TTL:PT1H
BEGIN:VTIMEZONE
TZID:Europe/Helsinki
BEGIN:DAYLIGHT
TZOFFSETFROM:+0200
TZOFFSETTO:+0300
TZNAME:EEST
DTSTART:20180325T010000
END:DAYLIGHT
BEGIN:STANDARD
TZOFFSETFROM:+0300
TZOFFSETTO:+0200
TZNAME:EET
DTSTART:20181028T010000
END:STANDARD
BEGIN:DAYLIGHT
TZOFFSETFROM:+0200
TZOFFSETTO:+0300
TZNAME:EEST
DTSTART:20190331T010000
END:DAYLIGHT
BEGIN:STANDARD
TZOFFSETFROM:+0300
TZOFFSETTO:+0200
TZNAME:EET
DTSTART:20191027T010000
END:STANDARD
BEGIN:DAYLIGHT
TZOFFSETFROM:+0200
TZOFFSETTO:+0300
TZNAME:EEST
DTSTART:20200329T010000
END:DAYLIGHT
BEGIN:STANDARD
TZOFFSETFROM:+0300
TZOFFSETTO:+0200
TZNAME:EET
DTSTART:20201025T010000
END:STANDARD
END:VTIMEZONE
BEGIN:VEVENT
DTSTART;TZID=Europe/Helsinki:20190505T120000
DTEND;TZID=Europe/Helsinki:20190505T160000
DTSTAMP:20260422T044700
CREATED:20180919T141128Z
LAST-MODIFIED:20180919T215914Z
UID:2361-1557057600-1557072000@snooker-essen.de
SUMMARY:Oberliga vs. Buer
DESCRIPTION:
URL:https://snooker-essen.de/event/ligaspieltag-oberliga-vs-buer/
CATEGORIES:Spieltage
END:VEVENT
BEGIN:VEVENT
DTSTART;TZID=Europe/Helsinki:20190526T120000
DTEND;TZID=Europe/Helsinki:20190526T160000
DTSTAMP:20260422T044700
CREATED:20180919T141224Z
LAST-MODIFIED:20180919T215905Z
UID:2363-1558872000-1558886400@snooker-essen.de
SUMMARY:Landesliga vs. Moers 2
DESCRIPTION:
URL:https://snooker-essen.de/event/ligaspieltag-landesliga-vs-moers-2/
CATEGORIES:Spieltage
END:VEVENT
END:VCALENDAR