BEGIN:VCALENDAR
VERSION:2.0
PRODID:-//1. Snookerclub Essen e. V. - ECPv6.15.15//NONSGML v1.0//EN
CALSCALE:GREGORIAN
METHOD:PUBLISH
X-ORIGINAL-URL:https://snooker-essen.de
X-WR-CALDESC:Veranstaltungen für 1. Snookerclub Essen e. V.
REFRESH-INTERVAL;VALUE=DURATION:PT1H
X-Robots-Tag:noindex
X-PUBLISHED-TTL:PT1H
BEGIN:VTIMEZONE
TZID:Europe/Helsinki
BEGIN:DAYLIGHT
TZOFFSETFROM:+0200
TZOFFSETTO:+0300
TZNAME:EEST
DTSTART:20180325T010000
END:DAYLIGHT
BEGIN:STANDARD
TZOFFSETFROM:+0300
TZOFFSETTO:+0200
TZNAME:EET
DTSTART:20181028T010000
END:STANDARD
BEGIN:DAYLIGHT
TZOFFSETFROM:+0200
TZOFFSETTO:+0300
TZNAME:EEST
DTSTART:20190331T010000
END:DAYLIGHT
BEGIN:STANDARD
TZOFFSETFROM:+0300
TZOFFSETTO:+0200
TZNAME:EET
DTSTART:20191027T010000
END:STANDARD
BEGIN:DAYLIGHT
TZOFFSETFROM:+0200
TZOFFSETTO:+0300
TZNAME:EEST
DTSTART:20200329T010000
END:DAYLIGHT
BEGIN:STANDARD
TZOFFSETFROM:+0300
TZOFFSETTO:+0200
TZNAME:EET
DTSTART:20201025T010000
END:STANDARD
END:VTIMEZONE
BEGIN:VEVENT
DTSTART;TZID=Europe/Helsinki:20190303T120000
DTEND;TZID=Europe/Helsinki:20190303T160000
DTSTAMP:20260422T080716
CREATED:20180919T140113Z
LAST-MODIFIED:20180919T215946Z
UID:2353-1551614400-1551628800@snooker-essen.de
SUMMARY:Landesliga vs. Wuppertal 2
DESCRIPTION:
URL:https://snooker-essen.de/event/ligaspieltag-landesliga-vs-wuppertal-2/
CATEGORIES:Spieltage
END:VEVENT
BEGIN:VEVENT
DTSTART;TZID=Europe/Helsinki:20190324T120000
DTEND;TZID=Europe/Helsinki:20190324T160000
DTSTAMP:20260422T080716
CREATED:20180919T140209Z
LAST-MODIFIED:20180919T215936Z
UID:2355-1553428800-1553443200@snooker-essen.de
SUMMARY:Oberliga vs. Hagen
DESCRIPTION:
URL:https://snooker-essen.de/event/ligaspieltag-oberliga-vs-hagen/
CATEGORIES:Spieltage
END:VEVENT
END:VCALENDAR